BEGIN:VCALENDAR
VERSION:2.0
PRODID:-//BeskydskeDivadlo//PlayCalendar 1.0//CS
CALSCALE:GREGORIAN
METHOD:PUBLISH
BEGIN:VTIMEZONE
TZID:Europe/Prague
BEGIN:STANDARD
END:STANDARD
END:VTIMEZONE
BEGIN:VEVENT
UID:33633@BeskydskeDivadlo
DTSTAMP:20260420T131204Z
DTSTART:20260509T160000
DTEND:20260509T180000
SUMMARY:Do hajan!
LOCATION:Beskydské divadlo\, Nový Jičín
DESCRIPTION:Poetická groteska o usínání pro nejmenší.
PRIORITY:3
END:VEVENT
END:VCALENDAR
