BEGIN:VCALENDAR
VERSION:2.0
PRODID: 20260922T190000/33962
CALSCALE:GREGORIAN
METHOD:PUBLISH
BEGIN:VTIMEZONE
TZID:Europe/Prague
BEGIN:STANDARD
END:STANDARD
END:VTIMEZONE
BEGIN:VEVENT
DTSTART:20260922T190000
DTEND:20260922T210000
SUMMARY:Kapitán Skvělouš
LOCATION:Beskydské divadlo, Nový Jičín
DESCRIPTION:Muž – otec – superhrdina! Seznamte se s nejnenápadnějším hrdinou světa.
PRIORITY:3
END:VEVENT
END:VCALENDAR
