BEGIN:VCALENDAR
VERSION:2.0
PRODID: 20261013T190000/33957
CALSCALE:GREGORIAN
METHOD:PUBLISH
BEGIN:VTIMEZONE
TZID:Europe/Prague
BEGIN:STANDARD
END:STANDARD
END:VTIMEZONE
BEGIN:VEVENT
DTSTART:20261013T190000
DTEND:20261013T210000
SUMMARY:Varieté Krhut
LOCATION:Beskydské divadlo, Nový Jičín
DESCRIPTION:Mozaika stand-upů, skečů a scénických písniček inspirovaných svérázným životem nejen z Ostravy a okolí.
PRIORITY:3
END:VEVENT
END:VCALENDAR
